BEGIN:VCALENDAR
VERSION:2.0
PRODID:-//CERN//INDICO//EN
BEGIN:VEVENT
SUMMARY:47th JKPS(26/4/17) Meeting - Boseong Kwon
DTSTART:20260417T073000Z
DTEND:20260417T083000Z
DTSTAMP:20260419T153800Z
UID:indico-event-203@www.indico.kr
DESCRIPTION:Attendance: Title: Mode-zero Robinson instability in the pres
 ence of passive superconducting harmonic cavities ContentsPaper review - 
 권보성Discussion on paperNext speaker:  \n\nhttps://www.indico.kr/even
 t/203/
URL:https://www.indico.kr/event/203/
END:VEVENT
END:VCALENDAR
